BEGIN:VCALENDAR
VERSION:2.0
PRODID:-//La Pomme D&#039;Eve – South African Pub – Paris - ECPv4.6.19//NONSGML v1.0//EN
CALSCALE:GREGORIAN
METHOD:PUBLISH
X-WR-CALNAME:La Pomme D&#039;Eve – South African Pub – Paris
X-ORIGINAL-URL:http://lapommedeve.com
X-WR-CALDESC:Events for La Pomme D&#039;Eve – South African Pub – Paris
BEGIN:VEVENT
DTSTART;TZID=Europe/Paris:20240713T203000
DTEND;TZID=Europe/Paris:20240713T203000
DTSTAMP:20260423T050416
CREATED:20240707T214651Z
LAST-MODIFIED:20240710T173559Z
UID:4323-1720902600-1720902600@lapommedeve.com
SUMMARY:ENGLISH STAND UP COMEDY SHOW
DESCRIPTION:A geat English Comedy show this evening from 20h30 ! \n
URL:http://lapommedeve.com/event/english-stand-up-comedy-show/
LOCATION:1 rue laplace\, Paris\, 75005
ATTACH;FMTTYPE=image/jpeg:http://lapommedeve.com/wp-content/uploads/2023/07/comedy-carton-july-023.jpg
END:VEVENT
END:VCALENDAR