BEGIN:VCALENDAR
VERSION:2.0
PRODID:-//La Pomme D&#039;Eve – South African Pub – Paris - ECPv4.6.19//NONSGML v1.0//EN
CALSCALE:GREGORIAN
METHOD:PUBLISH
X-WR-CALNAME:La Pomme D&#039;Eve – South African Pub – Paris
X-ORIGINAL-URL:http://lapommedeve.com
X-WR-CALDESC:Events for La Pomme D&#039;Eve – South African Pub – Paris
BEGIN:VEVENT
DTSTART;TZID=Europe/Paris:20211010T190000
DTEND;TZID=Europe/Paris:20211011T013000
DTSTAMP:20260424T003011
CREATED:20211008T181526Z
LAST-MODIFIED:20211008T181526Z
UID:2346-1633892400-1633915800@lapommedeve.com
SUMMARY:NFL REDZONE
DESCRIPTION:Funs of NFL\, we have the redzone live from 19h ! \n
URL:http://lapommedeve.com/event/nfl-redzone/
LOCATION:1 rue laplace\, Paris\, 75005
ATTACH;FMTTYPE=image/jpeg:http://lapommedeve.com/wp-content/uploads/2019/12/nflredzone.jpg
END:VEVENT
END:VCALENDAR