BEGIN:VCALENDAR
VERSION:2.0
PRODID:-//La Pomme D&#039;Eve – South African Pub – Paris - ECPv4.6.19//NONSGML v1.0//EN
CALSCALE:GREGORIAN
METHOD:PUBLISH
X-WR-CALNAME:La Pomme D&#039;Eve – South African Pub – Paris
X-ORIGINAL-URL:http://lapommedeve.com
X-WR-CALDESC:Events for La Pomme D&#039;Eve – South African Pub – Paris
BEGIN:VEVENT
DTSTART;TZID=Europe/Paris:20260420T113000
DTEND;TZID=Europe/Paris:20260621T050000
DTSTAMP:20260420T231607
CREATED:20260420T165958Z
LAST-MODIFIED:20260420T170053Z
UID:5619-1776684600-1782018000@lapommedeve.com
SUMMARY:NHL PLAYOFFS 2026
DESCRIPTION:\n\n\n\n\n\n\nThe 2026 NHL playoffs are off to a lively start—16 teams battling from April to June for the Stanley Cup\, with early games already delivering tight scores and big storylines. \nWhat stands out right away: a wide-open field. The defending champs (Florida) didn’t even qualify\, and teams like Buffalo are back after long droughts\, while contenders like Colorado and Tampa Bay look dominant. \nShort take: unpredictable\, competitive\, and shaping up to be one of the more exciting NHL postseasons in recent years. \nAll games after midnight LIVE ! \n\n\n\n\n\n\n\n\n\n
URL:http://lapommedeve.com/event/nhl-playoffs-2026/
LOCATION:1 rue laplace\, Paris\, 75005
ATTACH;FMTTYPE=image/jpeg:http://lapommedeve.com/wp-content/uploads/2026/04/nhl-playoffs-2026.jpg
END:VEVENT
END:VCALENDAR