BEGIN:VCALENDAR
VERSION:2.0
PRODID:-//La Pomme D&#039;Eve – South African Pub – Paris - ECPv4.6.19//NONSGML v1.0//EN
CALSCALE:GREGORIAN
METHOD:PUBLISH
X-WR-CALNAME:La Pomme D&#039;Eve – South African Pub – Paris
X-ORIGINAL-URL:https://lapommedeve.com
X-WR-CALDESC:Events for La Pomme D&#039;Eve – South African Pub – Paris
BEGIN:VEVENT
DTSTART;TZID=Europe/Paris:20230708T203000
DTEND;TZID=Europe/Paris:20230708T223000
DTSTAMP:20260423T082734
CREATED:20230313T184504Z
LAST-MODIFIED:20230704T162445Z
UID:3699-1688848200-1688855400@lapommedeve.com
SUMMARY:ENGLISH STAND UP COMEDY
DESCRIPTION:First part \nA  great English Stand Up Comedy\, live from 20h30. \n  \n
URL:https://lapommedeve.com/event/english-stand-up-comedy-35/
LOCATION:1 rue laplace\, Paris\, 75005
ATTACH;FMTTYPE=image/jpeg:https://lapommedeve.com/wp-content/uploads/2022/04/mic-in-progress.jpg
END:VEVENT
END:VCALENDAR