BEGIN:VCALENDAR
VERSION:2.0
PRODID:-//La Pomme D&#039;Eve – South African Pub – Paris - ECPv4.6.19//NONSGML v1.0//EN
CALSCALE:GREGORIAN
METHOD:PUBLISH
X-WR-CALNAME:La Pomme D&#039;Eve – South African Pub – Paris
X-ORIGINAL-URL:https://lapommedeve.com
X-WR-CALDESC:Events for La Pomme D&#039;Eve – South African Pub – Paris
BEGIN:VEVENT
DTSTART;TZID=Europe/Paris:20230624T210000
DTEND;TZID=Europe/Paris:20230624T230000
DTSTAMP:20260423T231821
CREATED:20230620T162531Z
LAST-MODIFIED:20230620T162531Z
UID:3823-1687640400-1687647600@lapommedeve.com
SUMMARY:ENGLISH STAND UP COMEDY
DESCRIPTION:Second part. \nA  great English Stand Up Comedy\, live from 21h00. \n  \n
URL:https://lapommedeve.com/event/english-stand-up-comedy-38/
LOCATION:1 rue laplace\, Paris\, 75005
ATTACH;FMTTYPE=image/jpeg:https://lapommedeve.com/wp-content/uploads/2022/04/mic-in-progress.jpg
END:VEVENT
END:VCALENDAR