BEGIN:VCALENDAR
VERSION:2.0
PRODID:-//La Pomme D&#039;Eve – South African Pub – Paris - ECPv4.6.19//NONSGML v1.0//EN
CALSCALE:GREGORIAN
METHOD:PUBLISH
X-WR-CALNAME:La Pomme D&#039;Eve – South African Pub – Paris
X-ORIGINAL-URL:https://lapommedeve.com
X-WR-CALDESC:Events for La Pomme D&#039;Eve – South African Pub – Paris
BEGIN:VEVENT
DTSTART;TZID=Europe/Paris:20230701T203000
DTEND;TZID=Europe/Paris:20230701T223000
DTSTAMP:20260423T171529
CREATED:20230301T181628Z
LAST-MODIFIED:20230627T162201Z
UID:3677-1688243400-1688250600@lapommedeve.com
SUMMARY:IMPROV ENGLISH STAND UP COMEDY
DESCRIPTION:Come and follow our Improv Stand Up Comedy from 20h30 ! ! \n
URL:https://lapommedeve.com/event/improv-english-stand-up-comedy/
LOCATION:1 rue laplace\, Paris\, 75005
ATTACH;FMTTYPE=image/gif:https://lapommedeve.com/wp-content/uploads/2023/03/stand-up-imrov-english.gif
END:VEVENT
END:VCALENDAR