BEGIN:VCALENDAR
VERSION:2.0
PRODID:-//La Pomme D&#039;Eve – South African Pub – Paris - ECPv4.6.19//NONSGML v1.0//EN
CALSCALE:GREGORIAN
METHOD:PUBLISH
X-WR-CALNAME:La Pomme D&#039;Eve – South African Pub – Paris
X-ORIGINAL-URL:https://lapommedeve.com
X-WR-CALDESC:Events for La Pomme D&#039;Eve – South African Pub – Paris
BEGIN:VEVENT
DTSTART;TZID=Europe/Paris:20230711T020000
DTEND;TZID=Europe/Paris:20230711T050000
DTSTAMP:20260423T083046
CREATED:20230710T211506Z
LAST-MODIFIED:20230710T211506Z
UID:3852-1689040800-1689051600@lapommedeve.com
SUMMARY:MLB HOME RUN DERBY 2023
DESCRIPTION:The Home Run Derby is an annual home run hitting competition in Major League Baseball (MLB) customarily held the day before the MLB All-Star Game\, which places the contest on a Monday in July. \n
URL:https://lapommedeve.com/event/mlb-home-run-derby-2023/
LOCATION:1 rue laplace\, Paris\, 75005
ATTACH;FMTTYPE=image/png:https://lapommedeve.com/wp-content/uploads/2023/07/mlb-homerunderby023.png
END:VEVENT
END:VCALENDAR